BEGIN:VCALENDAR
VERSION:2.0
PRODID:-//81.88.36.52//NONSGML kigkonsult.se iCalcreator 2.20//
CALSCALE:GREGORIAN
METHOD:PUBLISH
X-WR-TIMEZONE:Europe/Vienna
BEGIN:VEVENT
UID:event1580@Online-Magazin SCHNAPPEN.AT: die interessanten Seiten des Leb
 ens
DTSTAMP:20260425T122248Z
CATEGORIES:Termine noch offen
DESCRIPTION:Mittelalterfest Katzelsdorf\nKategorie: Termine noch offen\nICS
 -Link: https://schnappen.at/oesterreich/index.php?option=com_jem&view=even
 t&id=1580:mittelalterfest-katzelsdorf\n
DTSTART;VALUE=DATE:20260523
DTEND;VALUE=DATE:20260525
SUMMARY:Mittelalterfest Katzelsdorf
URL:https://schnappen.at/oesterreich/index.php?option=com_jem&view=event&id
 =1580:mittelalterfest-katzelsdorf
END:VEVENT
END:VCALENDAR