BEGIN:VCALENDAR
VERSION:2.0
PRODID:-//81.88.36.52//NONSGML kigkonsult.se iCalcreator 2.20//
CALSCALE:GREGORIAN
METHOD:PUBLISH
X-WR-TIMEZONE:Europe/Vienna
BEGIN:VEVENT
UID:event1561@Online-Magazin SCHNAPPEN.AT: die interessanten Seiten des Leb
 ens
DTSTAMP:20260425T150844Z
CATEGORIES:Termine noch offen
DESCRIPTION:Frank Turner in Österreich und Deutschland\nKategorie: Termine 
 noch offen\nICS-Link: https://schnappen.at/oesterreich/index.php?option=co
 m_jem&view=event&id=1561:frankturner\n
DTSTART;VALUE=DATE:20251113
DTEND;VALUE=DATE:20251114
SUMMARY:Frank Turner in Österreich und Deutschland
URL:https://schnappen.at/oesterreich/index.php?option=com_jem&view=event&id
 =1561:frankturner
END:VEVENT
END:VCALENDAR