BEGIN:VCALENDAR
VERSION:2.0
PRODID:-//81.88.36.52//NONSGML kigkonsult.se iCalcreator 2.20//
CALSCALE:GREGORIAN
METHOD:PUBLISH
X-WR-TIMEZONE:Europe/Vienna
BEGIN:VEVENT
UID:event1558@Online-Magazin SCHNAPPEN.AT: die interessanten Seiten des Leb
 ens
DTSTAMP:20260425T105456Z
CATEGORIES:Termine noch offen
DESCRIPTION:Walserherbst Festival 2027\nKategorie: Termine noch offen\nICS-
 Link: https://schnappen.at/oesterreich/index.php?option=com_jem&view=event
 &id=1558:walserherbst\n
DTSTART;VALUE=DATE:20270820
DTEND;VALUE=DATE:20270905
SUMMARY:Walserherbst Festival 2027
URL:https://schnappen.at/oesterreich/index.php?option=com_jem&view=event&id
 =1558:walserherbst
END:VEVENT
END:VCALENDAR