BEGIN:VCALENDAR
VERSION:2.0
PRODID:-//81.88.36.52//NONSGML kigkonsult.se iCalcreator 2.20//
CALSCALE:GREGORIAN
METHOD:PUBLISH
X-WR-TIMEZONE:Europe/Vienna
BEGIN:VEVENT
UID:event1553@Online-Magazin SCHNAPPEN.AT: die interessanten Seiten des Leb
 ens
DTSTAMP:20260425T122249Z
CATEGORIES:Messeveranstaltungen im Messekalender\, Veranstaltungen
DESCRIPTION:Rieder Volksfest 2027\nKategorie: Messeveranstaltungen im Messe
 kalender\, Veranstaltungen\nICS-Link: https://schnappen.at/oesterreich/ind
 ex.php?option=com_jem&view=event&id=1553:oktoberfest-innviertel\n
DTSTART;VALUE=DATE:20270909
DTEND;VALUE=DATE:20270913
SUMMARY:Rieder Volksfest 2027
URL:https://schnappen.at/oesterreich/index.php?option=com_jem&view=event&id
 =1553:oktoberfest-innviertel
END:VEVENT
END:VCALENDAR