BEGIN:VCALENDAR
VERSION:2.0
PRODID:-//81.88.36.52//NONSGML kigkonsult.se iCalcreator 2.20//
CALSCALE:GREGORIAN
METHOD:PUBLISH
X-WR-TIMEZONE:Europe/Vienna
BEGIN:VEVENT
UID:event1551@Online-Magazin SCHNAPPEN.AT: die interessanten Seiten des Leb
 ens
DTSTAMP:20260425T121942Z
CATEGORIES:Veranstaltungen
DESCRIPTION:Amethystwelt in Maissau: Events\, Führungen und Schaugartentage
 \nKategorie: Veranstaltungen\nICS-Link: https://schnappen.at/oesterreich/i
 ndex.php?option=com_jem&view=event&id=1551:maissau\n
DTSTART;VALUE=DATE:20260719
DTEND;VALUE=DATE:20260720
SUMMARY:Amethystwelt in Maissau: Events\, Führungen und Schaugartentage
URL:https://schnappen.at/oesterreich/index.php?option=com_jem&view=event&id
 =1551:maissau
END:VEVENT
END:VCALENDAR