BEGIN:VCALENDAR
VERSION:2.0
PRODID:-//81.88.36.52//NONSGML kigkonsult.se iCalcreator 2.20//
CALSCALE:GREGORIAN
METHOD:PUBLISH
X-WR-TIMEZONE:Europe/Vienna
BEGIN:VEVENT
UID:event1548@Online-Magazin SCHNAPPEN.AT: die interessanten Seiten des Leb
 ens
DTSTAMP:20260425T121939Z
CATEGORIES:Veranstaltungen
DESCRIPTION:Mario Biondi in Deutschland\nKategorie: Veranstaltungen\nICS-Li
 nk: https://schnappen.at/oesterreich/index.php?option=com_jem&view=event&i
 d=1548:mario-biondi\n
DTSTART;VALUE=DATE:20260626
DTEND;VALUE=DATE:20260627
SUMMARY:Mario Biondi in Deutschland
URL:https://schnappen.at/oesterreich/index.php?option=com_jem&view=event&id
 =1548:mario-biondi
END:VEVENT
END:VCALENDAR