BEGIN:VCALENDAR
VERSION:2.0
PRODID:-//81.88.36.52//NONSGML kigkonsult.se iCalcreator 2.20//
CALSCALE:GREGORIAN
METHOD:PUBLISH
X-WR-TIMEZONE:Europe/Vienna
BEGIN:VEVENT
UID:event1543@Online-Magazin SCHNAPPEN.AT: die interessanten Seiten des Leb
 ens
DTSTAMP:20260425T122246Z
CATEGORIES:Termine noch offen
DESCRIPTION:ÖVP-Ball in St. Margarethen\nKategorie: Termine noch offen\nICS
 -Link: https://schnappen.at/oesterreich/index.php?option=com_jem&view=even
 t&id=1543:ball-st-margarethen\n
DTSTART;VALUE=DATE:20270206
DTEND;VALUE=DATE:20270207
SUMMARY:ÖVP-Ball in St. Margarethen
URL:https://schnappen.at/oesterreich/index.php?option=com_jem&view=event&id
 =1543:ball-st-margarethen
END:VEVENT
END:VCALENDAR