BEGIN:VCALENDAR
VERSION:2.0
PRODID:-//81.88.36.52//NONSGML kigkonsult.se iCalcreator 2.20//
CALSCALE:GREGORIAN
METHOD:PUBLISH
X-WR-TIMEZONE:Europe/Vienna
BEGIN:VEVENT
UID:event1540@Online-Magazin SCHNAPPEN.AT: die interessanten Seiten des Leb
 ens
DTSTAMP:20260425T122102Z
CATEGORIES:Veranstaltungen
DESCRIPTION:Burg Gars am Kamp: Events \nKategorie: Veranstaltungen\nICS-Lin
 k: https://schnappen.at/oesterreich/index.php?option=com_jem&view=event&id
 =1540:burg-gars\n
DTSTART;VALUE=DATE:20260806
DTEND;VALUE=DATE:20260807
LOCATION:Burg Gars am Kamp\,Am Schlossberg\,3571 Gars
SUMMARY:Burg Gars am Kamp: Events 
URL:https://schnappen.at/oesterreich/index.php?option=com_jem&view=event&id
 =1540:burg-gars
END:VEVENT
END:VCALENDAR