BEGIN:VCALENDAR
VERSION:2.0
PRODID:-//81.88.36.52//NONSGML kigkonsult.se iCalcreator 2.20//
CALSCALE:GREGORIAN
METHOD:PUBLISH
X-WR-TIMEZONE:Europe/Vienna
BEGIN:VEVENT
UID:event1538@Online-Magazin SCHNAPPEN.AT: die interessanten Seiten des Leb
 ens
DTSTAMP:20260425T122102Z
CATEGORIES:Termine noch offen
DESCRIPTION:KASUMAMA Afrikafestival in Moorbad Harbach\nKategorie: Termine 
 noch offen\nICS-Link: https://schnappen.at/oesterreich/index.php?option=co
 m_jem&view=event&id=1538:afrikafestival\n
DTSTART;VALUE=DATE:20260708
DTEND;VALUE=DATE:20260713
SUMMARY:KASUMAMA Afrikafestival in Moorbad Harbach
URL:https://schnappen.at/oesterreich/index.php?option=com_jem&view=event&id
 =1538:afrikafestival
END:VEVENT
END:VCALENDAR