BEGIN:VCALENDAR
VERSION:2.0
PRODID:-//81.88.36.52//NONSGML kigkonsult.se iCalcreator 2.20//
CALSCALE:GREGORIAN
METHOD:PUBLISH
X-WR-TIMEZONE:Europe/Vienna
BEGIN:VEVENT
UID:event1537@Online-Magazin SCHNAPPEN.AT: die interessanten Seiten des Leb
 ens
DTSTAMP:20260425T105308Z
CATEGORIES:Veranstaltungen
DESCRIPTION:Lenny Kravitz\nKategorie: Veranstaltungen\nICS-Link: https://sc
 hnappen.at/oesterreich/index.php?option=com_jem&view=event&id=1537:kravitz
 \n
DTSTART;VALUE=DATE:20260620
DTEND;VALUE=DATE:20260621
LOCATION:Burg Clam\,Sperken 1\,4352 Klam
SUMMARY:Lenny Kravitz
URL:https://schnappen.at/oesterreich/index.php?option=com_jem&view=event&id
 =1537:kravitz
END:VEVENT
END:VCALENDAR