BEGIN:VCALENDAR
VERSION:2.0
PRODID:-//81.88.36.52//NONSGML kigkonsult.se iCalcreator 2.20//
CALSCALE:GREGORIAN
METHOD:PUBLISH
X-WR-TIMEZONE:Europe/Vienna
BEGIN:VEVENT
UID:event1532@Online-Magazin SCHNAPPEN.AT: die interessanten Seiten des Leb
 ens
DTSTAMP:20260425T105449Z
CATEGORIES:Veranstaltungen
DESCRIPTION:Three Days Grace \nKategorie: Veranstaltungen\nICS-Link: https:
 //schnappen.at/oesterreich/index.php?option=com_jem&view=event&id=1532:thr
 ee-days-grace\n
DTSTART;VALUE=DATE:20260614
DTEND;VALUE=DATE:20260615
SUMMARY:Three Days Grace 
URL:https://schnappen.at/oesterreich/index.php?option=com_jem&view=event&id
 =1532:three-days-grace
END:VEVENT
END:VCALENDAR