BEGIN:VCALENDAR
VERSION:2.0
PRODID:-//81.88.36.52//NONSGML kigkonsult.se iCalcreator 2.20//
CALSCALE:GREGORIAN
METHOD:PUBLISH
X-WR-TIMEZONE:Europe/Vienna
BEGIN:VEVENT
UID:event1531@Online-Magazin SCHNAPPEN.AT: die interessanten Seiten des Leb
 ens
DTSTAMP:20260425T105354Z
CATEGORIES:Veranstaltungen
DESCRIPTION:Stegreiftheater Tschauner-Bühne\nKategorie: Veranstaltungen\nIC
 S-Link: https://schnappen.at/oesterreich/index.php?option=com_jem&view=eve
 nt&id=1531:tschauner\n
DTSTART;TZID=Europe/Vienna:20260516T193000
DTEND;TZID=Europe/Vienna:20260516T220000
LOCATION:Stegreiftheater Tschauner Bühne Wien\,Maroltingergasse 43\,1160 Wi
 en
SUMMARY:Stegreiftheater Tschauner-Bühne
URL:https://schnappen.at/oesterreich/index.php?option=com_jem&view=event&id
 =1531:tschauner
END:VEVENT
END:VCALENDAR