BEGIN:VCALENDAR
VERSION:2.0
PRODID:-//81.88.36.52//NONSGML kigkonsult.se iCalcreator 2.20//
CALSCALE:GREGORIAN
METHOD:PUBLISH
X-WR-TIMEZONE:Europe/Vienna
BEGIN:VEVENT
UID:event152@Online-Magazin SCHNAPPEN.AT: die interessanten Seiten des Lebe
 ns
DTSTAMP:20260425T150957Z
CATEGORIES:Termine noch offen
DESCRIPTION:Haydn Festspiele in beeindruckenden\, verschiedenen Locations\n
 Kategorie: Termine noch offen\nICS-Link: https://schnappen.at/oesterreich/
 index.php?option=com_jem&view=event&id=152:haydn-festspiele\n
DTSTART;VALUE=DATE:20170824
DTEND;VALUE=DATE:20170904
SUMMARY:Haydn Festspiele in beeindruckenden\, verschiedenen Locations
URL:https://schnappen.at/oesterreich/index.php?option=com_jem&view=event&id
 =152:haydn-festspiele
END:VEVENT
END:VCALENDAR