BEGIN:VCALENDAR
VERSION:2.0
PRODID:-//81.88.36.52//NONSGML kigkonsult.se iCalcreator 2.20//
CALSCALE:GREGORIAN
METHOD:PUBLISH
X-WR-TIMEZONE:Europe/Vienna
BEGIN:VEVENT
UID:event1529@Online-Magazin SCHNAPPEN.AT: die interessanten Seiten des Leb
 ens
DTSTAMP:20260425T122112Z
CATEGORIES:Veranstaltungen
DESCRIPTION:Donaufestival in Krems\nKategorie: Veranstaltungen\nICS-Link: h
 ttps://schnappen.at/oesterreich/index.php?option=com_jem&view=event&id=152
 9:donaufestival\n
DTSTART;VALUE=DATE:20260501
DTEND;VALUE=DATE:20260504
SUMMARY:Donaufestival in Krems
URL:https://schnappen.at/oesterreich/index.php?option=com_jem&view=event&id
 =1529:donaufestival
END:VEVENT
END:VCALENDAR