BEGIN:VCALENDAR
VERSION:2.0
PRODID:-//81.88.36.52//NONSGML kigkonsult.se iCalcreator 2.20//
CALSCALE:GREGORIAN
METHOD:PUBLISH
X-WR-TIMEZONE:Europe/Vienna
BEGIN:VEVENT
UID:event1522@Online-Magazin SCHNAPPEN.AT: die interessanten Seiten des Leb
 ens
DTSTAMP:20260425T134036Z
CATEGORIES:Messeveranstaltungen im Messekalender\, Wir berichten über...
DESCRIPTION:Die Hohe Jagd & Fischerei\nKategorie: Messeveranstaltungen im M
 essekalender\, Wir berichten über...\nICS-Link: https://schnappen.at/oeste
 rreich/index.php?option=com_jem&view=event&id=1522:jagd\n
DTSTART;VALUE=DATE:20270218
DTEND;VALUE=DATE:20270222
LOCATION:Messezentrum Salzburg\,Am Messezentrum 1\,5020 Salzburg
SUMMARY:Die Hohe Jagd & Fischerei
URL:https://schnappen.at/oesterreich/index.php?option=com_jem&view=event&id
 =1522:jagd
END:VEVENT
END:VCALENDAR