BEGIN:VCALENDAR
VERSION:2.0
PRODID:-//81.88.36.52//NONSGML kigkonsult.se iCalcreator 2.20//
CALSCALE:GREGORIAN
METHOD:PUBLISH
X-WR-TIMEZONE:Europe/Vienna
BEGIN:VEVENT
UID:event1521@Online-Magazin SCHNAPPEN.AT: die interessanten Seiten des Leb
 ens
DTSTAMP:20260425T105519Z
CATEGORIES:Veranstaltungen
DESCRIPTION:Sommerspiele Melk 2026\nKategorie: Veranstaltungen\nICS-Link: h
 ttps://schnappen.at/oesterreich/index.php?option=com_jem&view=event&id=152
 1:sommerspiele-melk\n
DTSTART;VALUE=DATE:20260617
DTEND;VALUE=DATE:20260816
LOCATION:Wachauarena Melk\,Rollfährestraße 1\,3390 Melk
SUMMARY:Sommerspiele Melk 2026
URL:https://schnappen.at/oesterreich/index.php?option=com_jem&view=event&id
 =1521:sommerspiele-melk
END:VEVENT
END:VCALENDAR