BEGIN:VCALENDAR
VERSION:2.0
PRODID:-//81.88.36.52//NONSGML kigkonsult.se iCalcreator 2.20//
CALSCALE:GREGORIAN
METHOD:PUBLISH
X-WR-TIMEZONE:Europe/Vienna
BEGIN:VEVENT
UID:event1515@Online-Magazin SCHNAPPEN.AT: die interessanten Seiten des Leb
 ens
DTSTAMP:20260425T122021Z
CATEGORIES:Veranstaltungen
DESCRIPTION:Stefan Gwildis in Deutschland\nKategorie: Veranstaltungen\nICS-
 Link: https://schnappen.at/oesterreich/index.php?option=com_jem&view=event
 &id=1515:stefan-gwildis\n
DTSTART;TZID=Europe/Vienna:20260923T203000
DTEND;TZID=Europe/Vienna:20260923T203000
SUMMARY:Stefan Gwildis in Deutschland
URL:https://schnappen.at/oesterreich/index.php?option=com_jem&view=event&id
 =1515:stefan-gwildis
END:VEVENT
END:VCALENDAR