BEGIN:VCALENDAR
VERSION:2.0
PRODID:-//81.88.36.52//NONSGML kigkonsult.se iCalcreator 2.20//
CALSCALE:GREGORIAN
METHOD:PUBLISH
X-WR-TIMEZONE:Europe/Vienna
BEGIN:VEVENT
UID:event1513@Online-Magazin SCHNAPPEN.AT: die interessanten Seiten des Leb
 ens
DTSTAMP:20260425T121826Z
CATEGORIES:Wir berichten über...\, Veranstaltungen
DESCRIPTION:Area 53 Festival 2026 in Schladnitz\, Leoben\nKategorie: Wir be
 richten über...\, Veranstaltungen\nICS-Link: https://schnappen.at/oesterre
 ich/index.php?option=com_jem&view=event&id=1513:area-53\n
DTSTART;VALUE=DATE:20260715
DTEND;VALUE=DATE:20260719
SUMMARY:Area 53 Festival 2026 in Schladnitz\, Leoben
URL:https://schnappen.at/oesterreich/index.php?option=com_jem&view=event&id
 =1513:area-53
END:VEVENT
END:VCALENDAR