BEGIN:VCALENDAR
VERSION:2.0
PRODID:-//81.88.36.52//NONSGML kigkonsult.se iCalcreator 2.20//
CALSCALE:GREGORIAN
METHOD:PUBLISH
X-WR-TIMEZONE:Europe/Vienna
BEGIN:VEVENT
UID:event1512@Online-Magazin SCHNAPPEN.AT: die interessanten Seiten des Leb
 ens
DTSTAMP:20260425T121819Z
CATEGORIES:Veranstaltungen
DESCRIPTION:Jethro Tull in Österreich \nKategorie: Veranstaltungen\nICS-Lin
 k: https://schnappen.at/oesterreich/index.php?option=com_jem&view=event&id
 =1512:jethro-tull\n
DTSTART;VALUE=DATE:20261120
DTEND;VALUE=DATE:20261121
SUMMARY:Jethro Tull in Österreich 
URL:https://schnappen.at/oesterreich/index.php?option=com_jem&view=event&id
 =1512:jethro-tull
END:VEVENT
END:VCALENDAR