BEGIN:VCALENDAR
VERSION:2.0
PRODID:-//81.88.36.52//NONSGML kigkonsult.se iCalcreator 2.20//
CALSCALE:GREGORIAN
METHOD:PUBLISH
X-WR-TIMEZONE:Europe/Vienna
BEGIN:VEVENT
UID:event1510@Online-Magazin SCHNAPPEN.AT: die interessanten Seiten des Leb
 ens
DTSTAMP:20260425T105355Z
CATEGORIES:Veranstaltungen
DESCRIPTION:Beatsteaks in Österreich und Deutschland\nKategorie: Veranstalt
 ungen\nICS-Link: https://schnappen.at/oesterreich/index.php?option=com_jem
 &view=event&id=1510:beatsteaks\n
DTSTART;TZID=Europe/Vienna:20260617T200000
DTEND;TZID=Europe/Vienna:20260617T200000
LOCATION:Posthof Linz\,Posthofstraße 43\,4020 Linz
SUMMARY:Beatsteaks in Österreich und Deutschland
URL:https://schnappen.at/oesterreich/index.php?option=com_jem&view=event&id
 =1510:beatsteaks
END:VEVENT
END:VCALENDAR