BEGIN:VCALENDAR
VERSION:2.0
PRODID:-//81.88.36.52//NONSGML kigkonsult.se iCalcreator 2.20//
CALSCALE:GREGORIAN
METHOD:PUBLISH
X-WR-TIMEZONE:Europe/Vienna
BEGIN:VEVENT
UID:event1503@Online-Magazin SCHNAPPEN.AT: die interessanten Seiten des Leb
 ens
DTSTAMP:20260425T122018Z
CATEGORIES:Veranstaltungen
DESCRIPTION:Pflasterspektakel\, internationales Straßenkunstfestival Linz\n
 Kategorie: Veranstaltungen\nICS-Link: https://schnappen.at/oesterreich/ind
 ex.php?option=com_jem&view=event&id=1503:strassenkunstfestival\n
DTSTART;VALUE=DATE:20260723
DTEND;VALUE=DATE:20260726
SUMMARY:Pflasterspektakel\, internationales Straßenkunstfestival Linz
URL:https://schnappen.at/oesterreich/index.php?option=com_jem&view=event&id
 =1503:strassenkunstfestival
END:VEVENT
END:VCALENDAR