BEGIN:VCALENDAR
VERSION:2.0
PRODID:-//81.88.36.52//NONSGML kigkonsult.se iCalcreator 2.20//
CALSCALE:GREGORIAN
METHOD:PUBLISH
X-WR-TIMEZONE:Europe/Vienna
BEGIN:VEVENT
UID:event1499@Online-Magazin SCHNAPPEN.AT: die interessanten Seiten des Leb
 ens
DTSTAMP:20260425T122058Z
CATEGORIES:Termine noch offen
DESCRIPTION:Chinesischer Neujahrsball \nKategorie: Termine noch offen\nICS-
 Link: https://schnappen.at/oesterreich/index.php?option=com_jem&view=event
 &id=1499:chinesischer-neujahrsball\n
DTSTART;TZID=Europe/Vienna:20270220T210000
DTEND;TZID=Europe/Vienna:20270220T210000
LOCATION:Sofiensäle Wien\,Marxergasse 17\,1030 Wien
SUMMARY:Chinesischer Neujahrsball 
URL:https://schnappen.at/oesterreich/index.php?option=com_jem&view=event&id
 =1499:chinesischer-neujahrsball
END:VEVENT
END:VCALENDAR