BEGIN:VCALENDAR
VERSION:2.0
PRODID:-//81.88.36.52//NONSGML kigkonsult.se iCalcreator 2.20//
CALSCALE:GREGORIAN
METHOD:PUBLISH
X-WR-TIMEZONE:Europe/Vienna
BEGIN:VEVENT
UID:event1479@Online-Magazin SCHNAPPEN.AT: die interessanten Seiten des Leb
 ens
DTSTAMP:20260425T105354Z
CATEGORIES:Veranstaltungen
DESCRIPTION:Chris Norman \nKategorie: Veranstaltungen\nICS-Link: https://sc
 hnappen.at/oesterreich/index.php?option=com_jem&view=event&id=1479:chris-n
 orman\n
DTSTART;VALUE=DATE:20260529
DTEND;VALUE=DATE:20260530
SUMMARY:Chris Norman 
URL:https://schnappen.at/oesterreich/index.php?option=com_jem&view=event&id
 =1479:chris-norman
END:VEVENT
END:VCALENDAR