BEGIN:VCALENDAR
VERSION:2.0
PRODID:-//81.88.36.52//NONSGML kigkonsult.se iCalcreator 2.20//
CALSCALE:GREGORIAN
METHOD:PUBLISH
X-WR-TIMEZONE:Europe/Vienna
BEGIN:VEVENT
UID:event1476@Online-Magazin SCHNAPPEN.AT: die interessanten Seiten des Leb
 ens
DTSTAMP:20260425T121656Z
CATEGORIES:Termine noch offen
DESCRIPTION:Wintertainment\nKategorie: Termine noch offen\nICS-Link: https:
 //schnappen.at/oesterreich/index.php?option=com_jem&view=event&id=1476:win
 tertainment\n
DTSTART;VALUE=DATE:20261208
DTEND;VALUE=DATE:20261221
LOCATION:Theater am Spittelberg in Wien\,Spittelberggasse 10\,1070 Wien
SUMMARY:Wintertainment
URL:https://schnappen.at/oesterreich/index.php?option=com_jem&view=event&id
 =1476:wintertainment
END:VEVENT
END:VCALENDAR