BEGIN:VCALENDAR
VERSION:2.0
PRODID:-//81.88.36.52//NONSGML kigkonsult.se iCalcreator 2.20//
CALSCALE:GREGORIAN
METHOD:PUBLISH
X-WR-TIMEZONE:Europe/Vienna
BEGIN:VEVENT
UID:event1472@Online-Magazin SCHNAPPEN.AT: die interessanten Seiten des Leb
 ens
DTSTAMP:20260425T122239Z
CATEGORIES:Veranstaltungen
DESCRIPTION:Faschingsumzug Lichtenwörth\nKategorie: Veranstaltungen\nICS-Li
 nk: https://schnappen.at/oesterreich/index.php?option=com_jem&view=event&i
 d=1472:fasching-lichentenwoerth\n
DTSTART;VALUE=DATE:20270209
DTEND;VALUE=DATE:20270210
SUMMARY:Faschingsumzug Lichtenwörth
URL:https://schnappen.at/oesterreich/index.php?option=com_jem&view=event&id
 =1472:fasching-lichentenwoerth
END:VEVENT
END:VCALENDAR