BEGIN:VCALENDAR
VERSION:2.0
PRODID:-//81.88.36.52//NONSGML kigkonsult.se iCalcreator 2.20//
CALSCALE:GREGORIAN
METHOD:PUBLISH
X-WR-TIMEZONE:Europe/Vienna
BEGIN:VEVENT
UID:event1470@Online-Magazin SCHNAPPEN.AT: die interessanten Seiten des Leb
 ens
DTSTAMP:20260425T122059Z
CATEGORIES:Veranstaltungen
DESCRIPTION:Faschingsumzug Zillingdorf\nKategorie: Veranstaltungen\nICS-Lin
 k: https://schnappen.at/oesterreich/index.php?option=com_jem&view=event&id
 =1470:fasching-zillingdorf\n
DTSTART;VALUE=DATE:20270209
DTEND;VALUE=DATE:20270210
SUMMARY:Faschingsumzug Zillingdorf
URL:https://schnappen.at/oesterreich/index.php?option=com_jem&view=event&id
 =1470:fasching-zillingdorf
END:VEVENT
END:VCALENDAR