BEGIN:VCALENDAR
VERSION:2.0
PRODID:-//81.88.36.52//NONSGML kigkonsult.se iCalcreator 2.20//
CALSCALE:GREGORIAN
METHOD:PUBLISH
X-WR-TIMEZONE:Europe/Vienna
BEGIN:VEVENT
UID:event1466@Online-Magazin SCHNAPPEN.AT: die interessanten Seiten des Leb
 ens
DTSTAMP:20260425T121950Z
CATEGORIES:Veranstaltungen
DESCRIPTION:Oktoberfest der FF der Stadt Mürzzuschlag\nKategorie: Veranstal
 tungen\nICS-Link: https://schnappen.at/oesterreich/index.php?option=com_je
 m&view=event&id=1466:oktoberfest\n
DTSTART;VALUE=DATE:20261003
DTEND;VALUE=DATE:20261004
SUMMARY:Oktoberfest der FF der Stadt Mürzzuschlag
URL:https://schnappen.at/oesterreich/index.php?option=com_jem&view=event&id
 =1466:oktoberfest
END:VEVENT
END:VCALENDAR