BEGIN:VCALENDAR
VERSION:2.0
PRODID:-//81.88.36.52//NONSGML kigkonsult.se iCalcreator 2.20//
CALSCALE:GREGORIAN
METHOD:PUBLISH
X-WR-TIMEZONE:Europe/Vienna
BEGIN:VEVENT
UID:event1464@Online-Magazin SCHNAPPEN.AT: die interessanten Seiten des Leb
 ens
DTSTAMP:20260425T105519Z
CATEGORIES:Termine noch offen
DESCRIPTION:Signal112\, die Feuerwehrmesse und Rettungsmesse in Oberwart\nK
 ategorie: Termine noch offen\nICS-Link: https://schnappen.at/oesterreich/i
 ndex.php?option=com_jem&view=event&id=1464:feuerwehrmesse\n
DTSTART;VALUE=DATE:20280309
DTEND;VALUE=DATE:20280312
LOCATION:Messezentrum Oberwart\,Informstr. 1\,7400 Oberwart
SUMMARY:Signal112\, die Feuerwehrmesse und Rettungsmesse in Oberwart
URL:https://schnappen.at/oesterreich/index.php?option=com_jem&view=event&id
 =1464:feuerwehrmesse
END:VEVENT
END:VCALENDAR