BEGIN:VCALENDAR
VERSION:2.0
PRODID:-//81.88.36.52//NONSGML kigkonsult.se iCalcreator 2.20//
CALSCALE:GREGORIAN
METHOD:PUBLISH
X-WR-TIMEZONE:Europe/Vienna
BEGIN:VEVENT
UID:event1463@Online-Magazin SCHNAPPEN.AT: die interessanten Seiten des Leb
 ens
DTSTAMP:20260425T121916Z
CATEGORIES:Heurigentermine\, Veranstaltungen
DESCRIPTION:Deutschkreutz: Rotweinfestival \nKategorie: Heurigentermine\, V
 eranstaltungen\nICS-Link: https://schnappen.at/oesterreich/index.php?optio
 n=com_jem&view=event&id=1463:vinatrium-events\n
DTSTART;VALUE=DATE:20260710
DTEND;VALUE=DATE:20260712
LOCATION:Deutschkreutz\,Hauptstr.\,7301 Deutschkreutz
SUMMARY:Deutschkreutz: Rotweinfestival 
URL:https://schnappen.at/oesterreich/index.php?option=com_jem&view=event&id
 =1463:vinatrium-events
END:VEVENT
END:VCALENDAR