BEGIN:VCALENDAR
VERSION:2.0
PRODID:-//81.88.36.52//NONSGML kigkonsult.se iCalcreator 2.20//
CALSCALE:GREGORIAN
METHOD:PUBLISH
X-WR-TIMEZONE:Europe/Vienna
BEGIN:VEVENT
UID:event145@Online-Magazin SCHNAPPEN.AT: die interessanten Seiten des Lebe
 ns
DTSTAMP:20260425T121238Z
CATEGORIES:Bauernmarkt & Adventmaerkte\, Veranstaltungen
DESCRIPTION:Kirtag mit Markt in Loretto\nKategorie: Bauernmarkt & Adventmae
 rkte\, Veranstaltungen\nICS-Link: https://schnappen.at/oesterreich/index.p
 hp?option=com_jem&view=event&id=145:loretto-markt\n
DTSTART;VALUE=DATE:20260815
DTEND;VALUE=DATE:20260816
SUMMARY:Kirtag mit Markt in Loretto
URL:https://schnappen.at/oesterreich/index.php?option=com_jem&view=event&id
 =145:loretto-markt
END:VEVENT
END:VCALENDAR