BEGIN:VCALENDAR
VERSION:2.0
PRODID:-//81.88.36.52//NONSGML kigkonsult.se iCalcreator 2.20//
CALSCALE:GREGORIAN
METHOD:PUBLISH
X-WR-TIMEZONE:Europe/Vienna
BEGIN:VEVENT
UID:event1458@Online-Magazin SCHNAPPEN.AT: die interessanten Seiten des Leb
 ens
DTSTAMP:20260425T121827Z
CATEGORIES:Veranstaltungen\, Flohmarkt\, Oldtimer
DESCRIPTION:Gartenlust\, Gartenausstellung mit Verkaufsmarkt in Österreich
 \nKategorie: Veranstaltungen\, Flohmarkt\, Oldtimer\nICS-Link: https://sch
 nappen.at/oesterreich/index.php?option=com_jem&view=event&id=1458:gartenlu
 st\n
DTSTART;VALUE=DATE:20260507
DTEND;VALUE=DATE:20260511
SUMMARY:Gartenlust\, Gartenausstellung mit Verkaufsmarkt in Österreich
URL:https://schnappen.at/oesterreich/index.php?option=com_jem&view=event&id
 =1458:gartenlust
END:VEVENT
END:VCALENDAR