BEGIN:VCALENDAR
VERSION:2.0
PRODID:-//81.88.36.52//NONSGML kigkonsult.se iCalcreator 2.20//
CALSCALE:GREGORIAN
METHOD:PUBLISH
X-WR-TIMEZONE:Europe/Vienna
BEGIN:VEVENT
UID:event144@Online-Magazin SCHNAPPEN.AT: die interessanten Seiten des Lebe
 ns
DTSTAMP:20260425T134118Z
CATEGORIES:Bauernmarkt & Adventmaerkte
DESCRIPTION:Bauernmarkt Neufeld Campingplatz\nKategorie: Bauernmarkt & Adve
 ntmaerkte\nICS-Link: https://schnappen.at/oesterreich/index.php?option=com
 _jem&view=event&id=144:bauernmarkt-campingplatz\n
DTSTART;TZID=Europe/Vienna:20260801T090000
DTEND;TZID=Europe/Vienna:20260801T120000
LOCATION:Neufelder See\,Eisenstädter Str. 37\,2492 Neufeld a. d. Leitha
SUMMARY:Bauernmarkt Neufeld Campingplatz
URL:https://schnappen.at/oesterreich/index.php?option=com_jem&view=event&id
 =144:bauernmarkt-campingplatz
END:VEVENT
END:VCALENDAR