BEGIN:VCALENDAR
VERSION:2.0
PRODID:-//81.88.36.52//NONSGML kigkonsult.se iCalcreator 2.20//
CALSCALE:GREGORIAN
METHOD:PUBLISH
X-WR-TIMEZONE:Europe/Vienna
BEGIN:VEVENT
UID:event1447@Online-Magazin SCHNAPPEN.AT: die interessanten Seiten des Leb
 ens
DTSTAMP:20260425T121817Z
CATEGORIES:Veranstaltungen
DESCRIPTION:Mike Supancic\nKategorie: Veranstaltungen\nICS-Link: https://sc
 hnappen.at/oesterreich/index.php?option=com_jem&view=event&id=1447:supanci
 c\n
DTSTART;VALUE=DATE:20260929
DTEND;VALUE=DATE:20260930
LOCATION:Stadtsaal Wien\,Mariahilfer Str. 81\,1060 Wien
SUMMARY:Mike Supancic
URL:https://schnappen.at/oesterreich/index.php?option=com_jem&view=event&id
 =1447:supancic
END:VEVENT
END:VCALENDAR