BEGIN:VCALENDAR
VERSION:2.0
PRODID:-//81.88.36.52//NONSGML kigkonsult.se iCalcreator 2.20//
CALSCALE:GREGORIAN
METHOD:PUBLISH
X-WR-TIMEZONE:Europe/Vienna
BEGIN:VEVENT
UID:event1441@Online-Magazin SCHNAPPEN.AT: die interessanten Seiten des Leb
 ens
DTSTAMP:20260425T122140Z
CATEGORIES:Veranstaltungen
DESCRIPTION:Angelo Kelly & Band\nKategorie: Veranstaltungen\nICS-Link: http
 s://schnappen.at/oesterreich/index.php?option=com_jem&view=event&id=1441:k
 elly-family\n
DTSTART;TZID=Europe/Vienna:20261106T190000
DTEND;TZID=Europe/Vienna:20261106T190000
SUMMARY:Angelo Kelly & Band
URL:https://schnappen.at/oesterreich/index.php?option=com_jem&view=event&id
 =1441:kelly-family
END:VEVENT
END:VCALENDAR