BEGIN:VCALENDAR
VERSION:2.0
PRODID:-//81.88.36.52//NONSGML kigkonsult.se iCalcreator 2.20//
CALSCALE:GREGORIAN
METHOD:PUBLISH
X-WR-TIMEZONE:Europe/Vienna
BEGIN:VEVENT
UID:event1438@Online-Magazin SCHNAPPEN.AT: die interessanten Seiten des Leb
 ens
DTSTAMP:20260425T122121Z
CATEGORIES:Veranstaltungen
DESCRIPTION:XL Schlagershow on Tour 2026\nKategorie: Veranstaltungen\nICS-L
 ink: https://schnappen.at/oesterreich/index.php?option=com_jem&view=event&
 id=1438:schlagernacht\n
DTSTART;VALUE=DATE:20260912
DTEND;VALUE=DATE:20260913
SUMMARY:XL Schlagershow on Tour 2026
URL:https://schnappen.at/oesterreich/index.php?option=com_jem&view=event&id
 =1438:schlagernacht
END:VEVENT
END:VCALENDAR