BEGIN:VCALENDAR
VERSION:2.0
PRODID:-//81.88.36.52//NONSGML kigkonsult.se iCalcreator 2.20//
CALSCALE:GREGORIAN
METHOD:PUBLISH
X-WR-TIMEZONE:Europe/Vienna
BEGIN:VEVENT
UID:event1435@Online-Magazin SCHNAPPEN.AT: die interessanten Seiten des Leb
 ens
DTSTAMP:20260425T121936Z
CATEGORIES:Veranstaltungen
DESCRIPTION:Ritterfest Hirschstetten Wien\nKategorie: Veranstaltungen\nICS-
 Link: https://schnappen.at/oesterreich/index.php?option=com_jem&view=event
 &id=1435:ritter-wien\n
DTSTART;VALUE=DATE:20260502
DTEND;VALUE=DATE:20260504
SUMMARY:Ritterfest Hirschstetten Wien
URL:https://schnappen.at/oesterreich/index.php?option=com_jem&view=event&id
 =1435:ritter-wien
END:VEVENT
END:VCALENDAR