BEGIN:VCALENDAR
VERSION:2.0
PRODID:-//81.88.36.52//NONSGML kigkonsult.se iCalcreator 2.20//
CALSCALE:GREGORIAN
METHOD:PUBLISH
X-WR-TIMEZONE:Europe/Vienna
BEGIN:VEVENT
UID:event1415@Online-Magazin SCHNAPPEN.AT: die interessanten Seiten des Leb
 ens
DTSTAMP:20260425T134317Z
CATEGORIES:Bauernmarkt & Adventmaerkte
DESCRIPTION:Schloss Kobersdorf: Konzerte\, Events & Adventmarkt\nKategorie:
  Bauernmarkt & Adventmaerkte\nICS-Link: https://schnappen.at/oesterreich/i
 ndex.php?option=com_jem&view=event&id=1415:advent-kobersdorf\n
DTSTART;VALUE=DATE:20261128
DTEND;VALUE=DATE:20261130
LOCATION:Schloss Kobersdorf\,Schloss\,7332 Kobersdorf
SUMMARY:Schloss Kobersdorf: Konzerte\, Events & Adventmarkt
URL:https://schnappen.at/oesterreich/index.php?option=com_jem&view=event&id
 =1415:advent-kobersdorf
END:VEVENT
END:VCALENDAR