BEGIN:VCALENDAR
VERSION:2.0
PRODID:-//81.88.36.52//NONSGML kigkonsult.se iCalcreator 2.20//
CALSCALE:GREGORIAN
METHOD:PUBLISH
X-WR-TIMEZONE:Europe/Vienna
BEGIN:VEVENT
UID:event1413@Online-Magazin SCHNAPPEN.AT: die interessanten Seiten des Leb
 ens
DTSTAMP:20260425T121826Z
CATEGORIES:Veranstaltungen
DESCRIPTION:Ritterfest Burgruine Kirchschlag\nKategorie: Veranstaltungen\nI
 CS-Link: https://schnappen.at/oesterreich/index.php?option=com_jem&view=ev
 ent&id=1413:ritterfest\n
DTSTART;VALUE=DATE:20260725
DTEND;VALUE=DATE:20260727
SUMMARY:Ritterfest Burgruine Kirchschlag
URL:https://schnappen.at/oesterreich/index.php?option=com_jem&view=event&id
 =1413:ritterfest
END:VEVENT
END:VCALENDAR