BEGIN:VCALENDAR
VERSION:2.0
PRODID:-//81.88.36.52//NONSGML kigkonsult.se iCalcreator 2.20//
CALSCALE:GREGORIAN
METHOD:PUBLISH
X-WR-TIMEZONE:Europe/Vienna
BEGIN:VEVENT
UID:event1405@Online-Magazin SCHNAPPEN.AT: die interessanten Seiten des Leb
 ens
DTSTAMP:20260425T105334Z
CATEGORIES:Veranstaltungen
DESCRIPTION:NENA in Österreich \nKategorie: Veranstaltungen\nICS-Link: http
 s://schnappen.at/oesterreich/index.php?option=com_jem&view=event&id=1405:n
 ena\n
DTSTART;VALUE=DATE:20260619
DTEND;VALUE=DATE:20260620
SUMMARY:NENA in Österreich 
URL:https://schnappen.at/oesterreich/index.php?option=com_jem&view=event&id
 =1405:nena
END:VEVENT
END:VCALENDAR