BEGIN:VCALENDAR
VERSION:2.0
PRODID:-//81.88.36.52//NONSGML kigkonsult.se iCalcreator 2.20//
CALSCALE:GREGORIAN
METHOD:PUBLISH
X-WR-TIMEZONE:Europe/Vienna
BEGIN:VEVENT
UID:event1404@Online-Magazin SCHNAPPEN.AT: die interessanten Seiten des Leb
 ens
DTSTAMP:20260425T121655Z
CATEGORIES:Veranstaltungen
DESCRIPTION:Impala Ray in Deutschland\nKategorie: Veranstaltungen\nICS-Link
 : https://schnappen.at/oesterreich/index.php?option=com_jem&view=event&id=
 1404:impala-ray\n
DTSTART;VALUE=DATE:20260725
DTEND;VALUE=DATE:20260726
SUMMARY:Impala Ray in Deutschland
URL:https://schnappen.at/oesterreich/index.php?option=com_jem&view=event&id
 =1404:impala-ray
END:VEVENT
END:VCALENDAR