BEGIN:VCALENDAR
VERSION:2.0
PRODID:-//81.88.36.52//NONSGML kigkonsult.se iCalcreator 2.20//
CALSCALE:GREGORIAN
METHOD:PUBLISH
X-WR-TIMEZONE:Europe/Vienna
BEGIN:VEVENT
UID:event13@Online-Magazin SCHNAPPEN.AT: die interessanten Seiten des Leben
 s
DTSTAMP:20260425T105356Z
CATEGORIES:Heurigentermine\, Veranstaltungen
DESCRIPTION:Großheuriger Tattendorf 2026\nKategorie: Heurigentermine\, Vera
 nstaltungen\nICS-Link: https://schnappen.at/oesterreich/index.php?option=c
 om_jem&view=event&id=13:grossheuriger\n
DTSTART;VALUE=DATE:20260528
DTEND;VALUE=DATE:20260608
LOCATION:Tattendorf Heurigendorf\,dumbapark 1\,2523 Tattendorf
SUMMARY:Großheuriger Tattendorf 2026
URL:https://schnappen.at/oesterreich/index.php?option=com_jem&view=event&id
 =13:grossheuriger
END:VEVENT
END:VCALENDAR