BEGIN:VCALENDAR
VERSION:2.0
PRODID:-//81.88.36.52//NONSGML kigkonsult.se iCalcreator 2.20//
CALSCALE:GREGORIAN
METHOD:PUBLISH
X-WR-TIMEZONE:Europe/Vienna
BEGIN:VEVENT
UID:event1391@Online-Magazin SCHNAPPEN.AT: die interessanten Seiten des Leb
 ens
DTSTAMP:20260425T121915Z
CATEGORIES:Termine noch offen
DESCRIPTION:Dorner Ball\, der Ball der Tanzschule Dorner in Wien\nKategorie
 : Termine noch offen\nICS-Link: https://schnappen.at/oesterreich/index.php
 ?option=com_jem&view=event&id=1391:dorner-ball\n
DTSTART;VALUE=DATE:20270313
DTEND;VALUE=DATE:20270314
LOCATION:Palais Ferstel\,Freyung 2\,1010 Wien
SUMMARY:Dorner Ball\, der Ball der Tanzschule Dorner in Wien
URL:https://schnappen.at/oesterreich/index.php?option=com_jem&view=event&id
 =1391:dorner-ball
END:VEVENT
END:VCALENDAR