BEGIN:VCALENDAR
VERSION:2.0
PRODID:-//81.88.36.52//NONSGML kigkonsult.se iCalcreator 2.20//
CALSCALE:GREGORIAN
METHOD:PUBLISH
X-WR-TIMEZONE:Europe/Vienna
BEGIN:VEVENT
UID:event1390@Online-Magazin SCHNAPPEN.AT: die interessanten Seiten des Leb
 ens
DTSTAMP:20260424T175223Z
CATEGORIES:Veranstaltungen
DESCRIPTION:Klosterer Kastanienfest in Klostermarienberg\nKategorie: Verans
 taltungen\nICS-Link: https://schnappen.at/oesterreich/index.php?option=com
 _jem&view=event&id=1390:kastanienfest\n
DTSTART;TZID=Europe/Vienna:20261026T120000
DTEND;TZID=Europe/Vienna:20261026T120000
LOCATION:Klosterstadl Klostermarienberg\,Feldgasse 1\,7444 Klostermarienber
 g
SUMMARY:Klosterer Kastanienfest in Klostermarienberg
URL:https://schnappen.at/oesterreich/index.php?option=com_jem&view=event&id
 =1390:kastanienfest
END:VEVENT
END:VCALENDAR