BEGIN:VCALENDAR
VERSION:2.0
PRODID:-//81.88.36.52//NONSGML kigkonsult.se iCalcreator 2.20//
CALSCALE:GREGORIAN
METHOD:PUBLISH
X-WR-TIMEZONE:Europe/Vienna
BEGIN:VEVENT
UID:event1384@Online-Magazin SCHNAPPEN.AT: die interessanten Seiten des Leb
 ens
DTSTAMP:20260425T121824Z
CATEGORIES:Veranstaltungen
DESCRIPTION:Glen Hansard in Österreich und Deutschland\nKategorie: Veransta
 ltungen\nICS-Link: https://schnappen.at/oesterreich/index.php?option=com_j
 em&view=event&id=1384:hansard\n
DTSTART;VALUE=DATE:20260511
DTEND;VALUE=DATE:20260512
LOCATION:Planet.tt / Wiener Gasometer\,Guglgasse 8\,1110 Wien
SUMMARY:Glen Hansard in Österreich und Deutschland
URL:https://schnappen.at/oesterreich/index.php?option=com_jem&view=event&id
 =1384:hansard
END:VEVENT
END:VCALENDAR