BEGIN:VCALENDAR
VERSION:2.0
PRODID:-//81.88.36.52//NONSGML kigkonsult.se iCalcreator 2.20//
CALSCALE:GREGORIAN
METHOD:PUBLISH
X-WR-TIMEZONE:Europe/Vienna
BEGIN:VEVENT
UID:event1380@Online-Magazin SCHNAPPEN.AT: die interessanten Seiten des Leb
 ens
DTSTAMP:20260425T121916Z
CATEGORIES:Heurigentermine\, Veranstaltungen
DESCRIPTION:Wiener Weinwandertag 2026\nKategorie: Heurigentermine\, Veranst
 altungen\nICS-Link: https://schnappen.at/oesterreich/index.php?option=com_
 jem&view=event&id=1380:weinwandern\n
DTSTART;VALUE=DATE:20260926
DTEND;VALUE=DATE:20260928
SUMMARY:Wiener Weinwandertag 2026
URL:https://schnappen.at/oesterreich/index.php?option=com_jem&view=event&id
 =1380:weinwandern
END:VEVENT
END:VCALENDAR