BEGIN:VCALENDAR
VERSION:2.0
PRODID:-//81.88.36.52//NONSGML kigkonsult.se iCalcreator 2.20//
CALSCALE:GREGORIAN
METHOD:PUBLISH
X-WR-TIMEZONE:Europe/Vienna
BEGIN:VEVENT
UID:event137@Online-Magazin SCHNAPPEN.AT: die interessanten Seiten des Lebe
 ns
DTSTAMP:20260425T122336Z
CATEGORIES:Termine noch offen
DESCRIPTION:Heuriger Heggenberger\nKategorie: Termine noch offen\nICS-Link:
  https://schnappen.at/oesterreich/index.php?option=com_jem&view=event&id=1
 37:heuriger-heggenberger-tattendorf\n
DTSTART;VALUE=DATE:20260928
DTEND;VALUE=DATE:20261015
LOCATION:Tattendorf\, Bez. Baden\, Niederösterreich\,Badner Str. 6\,2523 Ta
 ttendorf
SUMMARY:Heuriger Heggenberger
URL:https://schnappen.at/oesterreich/index.php?option=com_jem&view=event&id
 =137:heuriger-heggenberger-tattendorf
END:VEVENT
END:VCALENDAR