BEGIN:VCALENDAR
VERSION:2.0
PRODID:-//81.88.36.52//NONSGML kigkonsult.se iCalcreator 2.20//
CALSCALE:GREGORIAN
METHOD:PUBLISH
X-WR-TIMEZONE:Europe/Vienna
BEGIN:VEVENT
UID:event1375@Online-Magazin SCHNAPPEN.AT: die interessanten Seiten des Leb
 ens
DTSTAMP:20260425T105451Z
CATEGORIES:Veranstaltungen\, Heurigentermine
DESCRIPTION:Rotwein-Opening Horitschon\nKategorie: Veranstaltungen\, Heurig
 entermine\nICS-Link: https://schnappen.at/oesterreich/index.php?option=com
 _jem&view=event&id=1375:horitschon\n
DTSTART;VALUE=DATE:20260522
DTEND;VALUE=DATE:20260526
SUMMARY:Rotwein-Opening Horitschon
URL:https://schnappen.at/oesterreich/index.php?option=com_jem&view=event&id
 =1375:horitschon
END:VEVENT
END:VCALENDAR