BEGIN:VCALENDAR
VERSION:2.0
PRODID:-//81.88.36.52//NONSGML kigkonsult.se iCalcreator 2.20//
CALSCALE:GREGORIAN
METHOD:PUBLISH
X-WR-TIMEZONE:Europe/Vienna
BEGIN:VEVENT
UID:event1373@Online-Magazin SCHNAPPEN.AT: die interessanten Seiten des Leb
 ens
DTSTAMP:20260425T121827Z
CATEGORIES:Heurigentermine\, Veranstaltungen
DESCRIPTION:Hallo-Wein in Enzersfeld\nKategorie: Heurigentermine\, Veransta
 ltungen\nICS-Link: https://schnappen.at/oesterreich/index.php?option=com_j
 em&view=event&id=1373:enzersfed\n
DTSTART;VALUE=DATE:20261024
DTEND;VALUE=DATE:20261025
SUMMARY:Hallo-Wein in Enzersfeld
URL:https://schnappen.at/oesterreich/index.php?option=com_jem&view=event&id
 =1373:enzersfed
END:VEVENT
END:VCALENDAR