BEGIN:VCALENDAR
VERSION:2.0
PRODID:-//81.88.36.52//NONSGML kigkonsult.se iCalcreator 2.20//
CALSCALE:GREGORIAN
METHOD:PUBLISH
X-WR-TIMEZONE:Europe/Vienna
BEGIN:VEVENT
UID:event1357@Online-Magazin SCHNAPPEN.AT: die interessanten Seiten des Leb
 ens
DTSTAMP:20260425T121653Z
CATEGORIES:Veranstaltungen
DESCRIPTION:Winnetou Spiele Wagram /Gföhl\nKategorie: Veranstaltungen\nICS-
 Link: https://schnappen.at/oesterreich/index.php?option=com_jem&view=event
 &id=1357:winnetou\n
DTSTART;VALUE=DATE:20260801
DTEND;VALUE=DATE:20260830
LOCATION:Arena Wagram\,3474 Kollersdorf
SUMMARY:Winnetou Spiele Wagram /Gföhl
URL:https://schnappen.at/oesterreich/index.php?option=com_jem&view=event&id
 =1357:winnetou
END:VEVENT
END:VCALENDAR