BEGIN:VCALENDAR
VERSION:2.0
PRODID:-//81.88.36.52//NONSGML kigkonsult.se iCalcreator 2.20//
CALSCALE:GREGORIAN
METHOD:PUBLISH
X-WR-TIMEZONE:Europe/Vienna
BEGIN:VEVENT
UID:event1355@Online-Magazin SCHNAPPEN.AT: die interessanten Seiten des Leb
 ens
DTSTAMP:20260425T121653Z
CATEGORIES:Veranstaltungen\, Wir berichten über...
DESCRIPTION:Marcus Miller in Österreich\nKategorie: Veranstaltungen\, Wir b
 erichten über...\nICS-Link: https://schnappen.at/oesterreich/index.php?opt
 ion=com_jem&view=event&id=1355:marcus-miller\n
DTSTART;VALUE=DATE:20260708
DTEND;VALUE=DATE:20260709
SUMMARY:Marcus Miller in Österreich
URL:https://schnappen.at/oesterreich/index.php?option=com_jem&view=event&id
 =1355:marcus-miller
END:VEVENT
END:VCALENDAR